{"text_format":"2","workbook":"xlsx","n_sheets":2,"sheets":["参加費用計算明細書","事務局使用欄"],"not_rendered":{"charts":0,"images":0,"macros":0,"external_links":0,"defined_names":3,"comments":0,"pivot_tables":0},"unopened":[],"bounds":{"document_bytes":16777216,"sheet_cells":100000,"run_cost":"one","rows_first":2000,"rows_last":500,"rows_between":2000,"halvings":0,"cell_chars":16384,"cell_head_chars":4096},"cells_cut":0,"cells_raw":0,"read":"whole","date_system":"1900"}

{"sheet":"参加費用計算明細書","index":0,"n_rows":58,"n_cols":33,"rows_kept":58,"cut":false,"hidden":false,"merged":[[40,24,41,36],[47,16,47,19],[47,20,47,22],[47,23,47,24],[47,25,47,31],[57,21,57,24],[45,25,45,31],[50,11,50,23],[50,25,50,31],[49,25,49,27],[52,5,55,35],[45,16,45,19],[45,20,45,22],[45,23,45,24],[57,25,57,28],[57,29,57,32],[57,1,57,4],[57,5,57,8],[57,9,57,12],[57,13,57,16],[57,17,57,20],[0,1,0,11],[38,23,38,24],[15,16,15,19],[15,20,15,22],[15,23,15,24],[2,22,2,31],[38,19,38,20],[38,17,38,18],[31,17,31,24],[30,16,30,36],[25,16,25,36],[17,16,17,19],[15,25,15,31],[38,25,38,31],[0,32,1,37],[8,7,9,15],[4,7,5,21],[6,6,7,24],[13,12,13,19],[12,29,13,31],[13,22,13,24],[12,22,12,24],[7,27,7,32],[2,32,5,37],[12,32,13,32],[8,24,9,32],[12,1,13,10],[12,12,12,19],[12,25,13,27],[12,28,13,28],[17,25,17,31],[17,20,17,22],[17,23,17,24],[38,21,38,22],[26,17,26,24],[36,24,37,36],[42,17,42,18],[42,19,42,20],[42,21,42,22],[42,23,42,24],[42,25,42,31]]}
[null,"参加申込明細書",{"$nulls":17},"<使い方> ",null,null,"部分は必要事項を入力する",{"$nulls":9},"オフィシャル使用欄\nCar No.\n"]
[]
[]
[]
[{"$nulls":7},"Rd02_第 44回どんぐりハチ公ラリー"]
[null,"大会名"]
[]
[null,"チーム名"]
[]
[null,"ドライバー氏名",{"$nulls":15},"コ・ドライバー氏名"]
[]
[]
[null,"費用計算（振込）明細",{"$nulls":10},"以下の項目をもれなく",{"$nulls":9},"振込",{"$nulls":5},"月",null,null,null,"日"]
[{"$nulls":12},"ご記入ください。",{"$nulls":9},"予定日"]
[]
["〇","競技参加料",{"$nulls":4},"（各大会の特別規則書参照）",{"$nulls":9},55000,null,null,null,"／1台",null,null,"⇒",null,{"$f":"Q16","v":55000},{"$nulls":6},"円"]
[]
["〇","パドックの追加スペース",{"$nulls":14},5000,null,null,null,"／1区画",null,null,"⇒",null,{"$f":"Q18*L19","v":0},{"$nulls":6},"円"]
[null,null,"希望する追加スペースの数",{"$nulls":8},0,"区画"]
[null,null,"登録するサービス車両数",{"$nulls":8},0,"台"]
[null,null,"積載車の台数",{"$nulls":8},0,"台"]
[]
[]
["〇","JMRC東北シリーズのポイントを希望する場合"]
[null,null,"ドライバー",{"$nulls":8},{"$f":"IF(AND(Q26=\"\",E28=\"□\",E29=\"☑\",S28=\"□\"),\"JMRC東北加盟クラブ所属でないので、ポイント加算できません\",\"\")","v":""}]
[{"$nulls":4},"所属クラブ(JMRC東北加盟)を選択",{"$nulls":11},"-"]
[{"$nulls":4},"□","その他のクラブ=JMRC東北未加盟（",{"$nulls":19},")←クラブ名を入力"]
[{"$nulls":4},"□","今回主催のクラブへ所属希望",{"$nulls":12},"□","JMRC東北へ個人加盟済"]
[]
[null,null,"コ・ドライバー",{"$nulls":8},{"$f":"IF(AND(Q31=\"\",E33=\"□\",E34=\"☑\",S33=\"□\"),\"JMRC東北加盟クラブ所属でないので、ポイント加算できません\",\"\")","v":""}]
[{"$nulls":4},"所属クラブ(JMRC東北加盟)を選択",{"$nulls":11},"-"]
[{"$nulls":4},"□","その他のクラブ=JMRC東北未加盟（",{"$nulls":19},")←クラブ名を入力"]
[{"$nulls":4},"□","今回主催のクラブへ所属希望",{"$nulls":12},"□","JMRC東北へ個人加盟済"]
[]
[]
["〇","JMRC東北共済会"]
[null,"ドライバー",{"$nulls":6},"□","不要",null,null,"□","加入済",null,null,"□","加入希望",null,null,null,"←三択"]
[null,"コ・ドライバー",{"$nulls":6},"□","不要",null,null,"□","加入済",null,null,"□","加入希望",null,null,null,"←三択"]
[{"$nulls":16},{"$f":"\"1名 \"&TEXT(事務局使用欄!B10,\"#,###\")&\"円\"","v":"1名 1,000円"},"×",null,{"$f":"COUNTIF(Q37:Q38,\"☑\")","v":0},null,"名",null,"⇒",null,{"$f":"T39*事務局使用欄!B10","v":0},{"$nulls":6},"円"]
["〇","JMRC東北スポーツ安全保険"]
[null,"ドライバー",{"$nulls":6},"□","不要",null,null,"□","加入済",null,null,"□","加入希望",null,null,null,"←三択"]
[null,"コ・ドライバー",{"$nulls":6},"□","不要",null,null,"□","加入済",null,null,"□","加入希望",null,null,null,"←三択"]
[{"$nulls":16},{"$f":"\"1名 \"&TEXT(事務局使用欄!B12,\"#,###\")&\"円\"","v":"1名 2,850円"},"×",null,{"$f":"COUNTIF(Q41:Q42,\"☑\")","v":0},null,"名",null,"⇒",null,{"$f":"T43*事務局使用欄!B12","v":0},{"$nulls":6},"円"]
[null,null,"共済会、スポーツ安全保険加入済の方は加入者証をオーガナイザーへ呈示してください。"]
[]
["〇","JMRC東北ラリー共済",{"$nulls":8},"□","加入希望",{"$nulls":4},{"$f":"事務局使用欄!B11","v":5000},null,null,null,"／1台",null,null,"⇒",null,{"$f":"IF(K46=\"☑\",事務局使用欄!B11,)","v":0},{"$nulls":6},"円"]
[null,null,null,"ドライバーがJMRC東北加盟クラブ員であることが条件です。"]
["〇","全国ラリー共済",{"$nulls":8},"□","加入希望",{"$nulls":4},{"$f":"事務局使用欄!B13","v":10000},null,null,null,"／1台",null,null,"⇒",null,{"$f":"IF(K48=\"☑\",事務局使用欄!B13,)","v":0},{"$nulls":6},"円"]
[]
["〇","領収書",null,null,null,"□","必要",{"$nulls":4},"領収書の宛名",{"$nulls":13},"合計"]
[{"$nulls":5},"☑","不要",{"$nulls":18},{"$f":"Z16+Z18+Z39+Z43+Z48+Z46","v":55000},{"$nulls":6},"円"]
[]
["〇","連絡事項"]
[]
[]
[]
[null,"事務局使用欄"]
[null,"受付No.",null,null,null,"受付日",null,null,null,"費用確認",null,null,null,"着金確認",null,null,null,"備考",null,null,null,"その他"]

{"sheet":"事務局使用欄","index":1,"n_rows":90,"n_cols":39,"rows_kept":90,"cut":false,"hidden":false,"merged":[[0,31,1,33],[1,21,1,23],[1,24,1,26],[2,10,2,11],[2,16,2,17],[0,7,1,8],[0,21,0,28],[0,29,1,30]]}
[{"$nulls":7},"サービスカー登録料／サービス員登録料",{"$nulls":13},"JMRC東北共済会",{"$nulls":7},"JMRC東北\nラリー見舞金",null,"領収書",{"$nulls":6},"□"]
[{"$nulls":9},"ドライバー",{"$nulls":5},"コ・ドライバー",{"$nulls":5},"ドライバー",null,null,"コ・ドライバー",{"$nulls":13},"☑"]
["受領日","大会名","チーム名","ドライバー\n氏名","コ・ドライバー\n氏名","振込\n予定日","競技\n参加料","台数","金額","所属\nJMRC\nクラブ","非JMRC\nクラブ名",null,"主催クラブ希望","JMRC個人加盟","ポイント","所属\nJMRC\nクラブ","非JMRC\nクラブ名",null,"主催クラブ希望","JMRC個人加盟","ポイント","不要","加入済","加入希望","不要","加入済","加入希望","人数","金額","希望","金額","要","不","宛先","合計金額","連絡事項"]
[null,{"$f":"参加費用計算明細書!H5","v":"Rd02_第 44回どんぐりハチ公ラリー"},{"$f":"参加費用計算明細書!G7","v":0},{"$f":"参加費用計算明細書!H9","v":0},{"$f":"参加費用計算明細書!Y9","v":0},{"$f":"参加費用計算明細書!Z13&\"/\"&参加費用計算明細書!AD13","v":"/"},{"$f":"参加費用計算明細書!Z16","v":55000},{"$f":"参加費用計算明細書!L21","v":0},{"$f":"参加費用計算明細書!Z18","v":0},{"$f":"参加費用計算明細書!Q26","v":"-"},{"$f":"IF(参加費用計算明細書!E27=\"☑\",\"Y\",\"\")","v":""},{"$f":"参加費用計算明細書!R27","v":0},{"$f":"IF(参加費用計算明細書!E28=\"☑\",\"Y\",\"\")","v":""},{"$f":"IF(参加費用計算明細書!S28=\"☑\",\"Y\",\"\")","v":""},{"$f":"IF(参加費用計算明細書!E29=\"☑\",\"Y\",\"\")","v":""},{"$f":"参加費用計算明細書!Q31","v":"-"},{"$f":"IF(参加費用計算明細書!E32=\"☑\",\"Y\",\"\")","v":""},{"$f":"参加費用計算明細書!R32","v":0},{"$f":"IF(参加費用計算明細書!E33=\"☑\",\"Y\",\"\")","v":""},{"$f":"IF(参加費用計算明細書!S33=\"☑\",\"Y\",\"\")","v":""},{"$f":"IF(参加費用計算明細書!E34=\"☑\",\"Y\",\"\")","v":""},{"$f":"IF(参加費用計算明細書!I37=\"☑\",\"Y\",\"\")","v":""},{"$f":"IF(参加費用計算明細書!M37=\"☑\",\"Y\",\"\")","v":""},{"$f":"IF(参加費用計算明細書!Q37=\"☑\",\"Y\",\"\")","v":""},{"$f":"IF(参加費用計算明細書!I38=\"☑\",\"Y\",\"\")","v":""},{"$f":"IF(参加費用計算明細書!M38=\"☑\",\"Y\",\"\")","v":""},{"$f":"IF(参加費用計算明細書!Q38=\"☑\",\"Y\",\"\")","v":""},{"$f":"参加費用計算明細書!T39","v":0},{"$f":"参加費用計算明細書!Z39","v":0},{"$f":"IF(参加費用計算明細書!K46=\"☑\",\"Y\",\"\")","v":""},{"$f":"参加費用計算明細書!Z46","v":0},{"$f":"IF(参加費用計算明細書!F50=\"☑\",\"Y\",\"\")","v":""},{"$f":"IF(参加費用計算明細書!F51=\"☑\",\"Y\",\"\")","v":"Y"},{"$f":"参加費用計算明細書!L51","v":0},{"$f":"参加費用計算明細書!Z51","v":55000},{"$f":"参加費用計算明細書!F53","v":0}]
[]
[]
[null,"金額(単価)","許容申込数",null,"JMRC東北加盟クラブ",{"$nulls":4},"対象競技会"]
["参加費",55000,1,null,"モータースポーツクラブあきた"]
["サービスカー",5000,2,null,"どんぐりスポーツカークラブ秋田",{"$nulls":4},"Rd01_ハチ公ウインターラリー2026"]
["共済会",1000,2,null,"コルトモータースポーツクラブ青森",{"$nulls":4},"Rd02_第 44回どんぐりハチ公ラリー"]
["見舞金",5000,1,null,"ラリーチーム グランドプロジェクト",{"$nulls":4},"Rd03_横手ラリー（仮）"]
["スポ安",2850,1,null,"コルトモータースポーツクラブ仙台",{"$nulls":4},"Rd04_利府ラリー2026"]
[null,10000,"サービスカー",null,"オートスポーツクラブ津軽"]
[null,25000,0,null,"スポーツカークラブベルナール青森"]
[null,26000,1000,null,"モータースポーツクラブはちのへ"]
[null,27000,2000,null,"オートスポーツフィットクルー"]
[null,28000,3000,null,"モータースポーツクラブ浅虫"]
[null,29000,4000,null,"みちのくレーシングクラブ、スポーツ"]
[null,30000,5000,null,"コルトモータースポーツクラブ岩手"]
[null,31000,6000,null,"チーム風鈴"]
[null,32000,7000,null,"プライズモータースポーツ"]
[null,33000,8000,null,"ブレストモータースポーツ"]
[null,34000,9000,null,"チームケーオーエス"]
[null,35000,10000,null,"レーシングチームナカノ"]
[null,36000,11000,null,"ラリーチームみそっかす"]
[null,37000,12000,null,"たろんぺレーシング秋田"]
[null,38000,13000,null,"奥州ビクトリーサークルクラブ"]
[null,39000,14000,null,"菅生スポーツクラブ"]
[null,40000,15000,null,"アクロスレーシングチーム"]
[null,41000,16000,null,"チーム・エフ"]
[null,42000,17000,null,"モータースポーツ利府"]
[null,43000,18000,null,"にっかわクラブ"]
[null,44000,19000,null,"チームコバルト"]
[null,45000,20000,null,"モータースポーツクラブアヤベ"]
[null,46000,null,null,"AUBE 73 RACING"]
[null,47000,null,null,"コルトモータースポーツクラブ福島"]
[null,48000,null,null,"エスアイエフ"]
[null,49000,null,null,"-"]
[null,50000,null,null,"-"]
[null,51000,null,null,"-"]
[null,52000]
[null,53000]
[null,54000]
[null,55000]
[null,56000]
[null,57000]
[null,58000]
[null,59000]
[null,60000]
[null,61000]
[null,62000]
[null,63000]
[null,64000]
[null,65000]
[null,66000]
[null,67000]
[null,68000]
[null,69000]
[null,70000]
[null,71000]
[null,72000]
[null,73000]
[null,74000]
[null,75000]
[null,76000]
[null,77000]
[null,78000]
[null,79000]
[null,80000]
[null,81000]
[null,82000]
[null,83000]
[null,84000]
[null,85000]
[null,86000]
[null,87000]
[null,88000]
[null,89000]
[null,90000]
[null,91000]
[null,92000]
[null,93000]
[null,94000]
[null,95000]
[null,96000]
[null,97000]
[null,98000]
[null,99000]
[null,100000]
[null,0]